BEGIN:VCALENDAR
VERSION:2.0
PRODID:-//Living Namasté - ECPv6.15.20//NONSGML v1.0//EN
CALSCALE:GREGORIAN
METHOD:PUBLISH
X-ORIGINAL-URL:https://www.namaste-fds.de
X-WR-CALDESC:Veranstaltungen für Living Namasté
REFRESH-INTERVAL;VALUE=DURATION:PT1H
X-Robots-Tag:noindex
X-PUBLISHED-TTL:PT1H
BEGIN:VTIMEZONE
TZID:Europe/Berlin
BEGIN:DAYLIGHT
TZOFFSETFROM:+0100
TZOFFSETTO:+0200
TZNAME:CEST
DTSTART:20250330T010000
END:DAYLIGHT
BEGIN:STANDARD
TZOFFSETFROM:+0200
TZOFFSETTO:+0100
TZNAME:CET
DTSTART:20251026T010000
END:STANDARD
BEGIN:DAYLIGHT
TZOFFSETFROM:+0100
TZOFFSETTO:+0200
TZNAME:CEST
DTSTART:20260329T010000
END:DAYLIGHT
BEGIN:STANDARD
TZOFFSETFROM:+0200
TZOFFSETTO:+0100
TZNAME:CET
DTSTART:20261025T010000
END:STANDARD
BEGIN:DAYLIGHT
TZOFFSETFROM:+0100
TZOFFSETTO:+0200
TZNAME:CEST
DTSTART:20270328T010000
END:DAYLIGHT
BEGIN:STANDARD
TZOFFSETFROM:+0200
TZOFFSETTO:+0100
TZNAME:CET
DTSTART:20271031T010000
END:STANDARD
END:VTIMEZONE
BEGIN:VEVENT
DTSTART;VALUE=DATE:20260105
DTEND;VALUE=DATE:20260210
DTSTAMP:20260423T114717
CREATED:20251213T091116Z
LAST-MODIFIED:20251213T094042Z
UID:4810-1767571200-1770681599@www.namaste-fds.de
SUMMARY:6-wöchiger Kurs zur Nervensystemregulation – mit Milena (Freudenstadt)
DESCRIPTION:Der Kurs richtet sich an Menschen\, die Wege aus Stress\, Anspannung und Daueralarm suchen. Milena arbeitet mit Breathwork\, Bodywork und Elementen aus der Kunsttherapie\, um das Nervensystem nachhaltig zu beruhigen und den Körper wieder in Balance zu bringen. \nBeginn: 05.01.2026\, montags\, jeweils 16:00 – 16:45 Uhr \nAnmeldung direkt bei Milena: www.mysoulbody.de \nHinweis: Dieser Kurs wird von einer externen Anbieterin im Studio Living Namasté durchgeführt.
URL:https://www.namaste-fds.de/veranstaltungen/nervensystemregulation-mit-milena-05012026/
LOCATION:Living Namasté – Aerial Yoga & Hatha Yoga Studio Freudenstadt (Inhaberin Marina D.)\, Bahnhofstraße 18\, Freudenstadt\, 72250\, Germany
CATEGORIES:Externe Anbieter
END:VEVENT
BEGIN:VEVENT
DTSTART;VALUE=DATE:20260107
DTEND;VALUE=DATE:20260205
DTSTAMP:20260423T114717
CREATED:20251213T094530Z
LAST-MODIFIED:20251213T100332Z
UID:4817-1767744000-1770249599@www.namaste-fds.de
SUMMARY:5 wöchiger Lu Jong Kurs – Tibetisches Heilyoga mit Monika Unterweger (Freudenstadt)
DESCRIPTION:Lu Jong ist eine jahrtausendealte Praxis aus Tibet. Die Übungen verbinden achtsame Bewegung\, Atmung und Energiearbeit. Sie unterstützen Beweglichkeit\, innere Stabilität und Ruhe. \nWann: ab 7. Januar 2026\, mittwochs 18:35–19:35 Uhr\, 5 Abende \nAnmeldung: monika.unterweger@online.de oder +49 1578 4196507 \nHinweis: Dieser Kurs wird von einer externen Anbieterin im Studio Living Namasté durchgeführt.
URL:https://www.namaste-fds.de/veranstaltungen/lu-jong-tibetisches-heilyoga-mit-monika-unterweger-07012026/
LOCATION:Living Namasté – Aerial Yoga & Hatha Yoga Studio Freudenstadt (Inhaberin Marina D.)\, Bahnhofstraße 18\, Freudenstadt\, 72250\, Germany
CATEGORIES:Externe Anbieter
ORGANIZER;CN="Monika Unterweger":MAILTO:monika.unterweger@online.de
END:VEVENT
END:VCALENDAR